BEGIN:VCALENDAR
VERSION:2.0
PRODID:-//IT Managed Services - ECPv6.15.20//NONSGML v1.0//EN
CALSCALE:GREGORIAN
METHOD:PUBLISH
X-ORIGINAL-URL:https://nctny.com
X-WR-CALDESC:Events for IT Managed Services
REFRESH-INTERVAL;VALUE=DURATION:PT1H
X-Robots-Tag:noindex
X-PUBLISHED-TTL:PT1H
BEGIN:VTIMEZONE
TZID:UTC
BEGIN:STANDARD
TZOFFSETFROM:+0000
TZOFFSETTO:+0000
TZNAME:UTC
DTSTART:20220101T000000
END:STANDARD
END:VTIMEZONE
BEGIN:VEVENT
DTSTART;VALUE=DATE:20250409
DTEND;VALUE=DATE:20250410
DTSTAMP:20260422T103701
CREATED:20250213T214311Z
LAST-MODIFIED:20250213T214407Z
UID:3106-1744156800-1744243199@nctny.com
SUMMARY:Technology Education Conference
DESCRIPTION:
URL:https://nctny.com/event/technology-education-conference/
LOCATION:The Palace Somerset Park\, 333 Davidson Ave\, Somerset\, NJ\, 08873\, United States
CATEGORIES:In-Person
END:VEVENT
BEGIN:VEVENT
DTSTART;TZID=UTC:20241030T080000
DTEND;TZID=UTC:20241030T170000
DTSTAMP:20260422T103701
CREATED:20241030T171031Z
LAST-MODIFIED:20241030T171031Z
UID:2932-1730275200-1730307600@nctny.com
SUMMARY:ESG INVESTING
DESCRIPTION:ESG INVESTING \nPresented by\, Investor Connex \nWatch Webinar \n\n\n\n\nVIEW MORE
URL:https://nctny.com/event/esg-investing/
LOCATION:NJ
ATTACH;FMTTYPE=image/png:https://nctny.com/wp-content/uploads/2023/08/event4.png
END:VEVENT
BEGIN:VEVENT
DTSTART;TZID=UTC:20241030T080000
DTEND;TZID=UTC:20241030T170000
DTSTAMP:20260422T103701
CREATED:20241030T170834Z
LAST-MODIFIED:20241030T170834Z
UID:2928-1730275200-1730307600@nctny.com
SUMMARY:NetConnect and Barracuda
DESCRIPTION:Hosted by NetConnect and Barracuda \nPresenter:  Scott Raba\, Solutions Architect\, Barracuda
URL:https://nctny.com/event/netconnect-and-barracuda/
LOCATION:NJ
ATTACH;FMTTYPE=image/png:https://nctny.com/wp-content/uploads/2024/05/enhance-your-security-posture-Lunch-Learn-Experience-1920-x-800-px-1.png
END:VEVENT
BEGIN:VEVENT
DTSTART;TZID=UTC:20241023T140000
DTEND;TZID=UTC:20241023T143000
DTSTAMP:20260422T103701
CREATED:20241030T170604Z
LAST-MODIFIED:20241030T170708Z
UID:2924-1729692000-1729693800@nctny.com
SUMMARY:What Is Cyber Warranty?
DESCRIPTION:Live Webinar – October 23rd\, 2024  at  2:00pmEST – 2:30pmEST \nPresented by: \nCORK – Cyber warranty program provides quick access to funds that can be used for incident response costs and cyber insurance deductibles\nNetConnect – Premier IT Managed Service Provider in the NYC Metropolitan Area
URL:https://nctny.com/event/what-is-cyber-warranty/
LOCATION:NJ
ATTACH;FMTTYPE=image/png:https://nctny.com/wp-content/uploads/2024/10/Cyber-Warranty.png
END:VEVENT
BEGIN:VEVENT
DTSTART;TZID=UTC:20240925T080000
DTEND;TZID=UTC:20240925T170000
DTSTAMP:20260422T103701
CREATED:20241030T171406Z
LAST-MODIFIED:20241030T174049Z
UID:2941-1727251200-1727283600@nctny.com
SUMMARY:St. Joseph Hill Academy’s Annual Golf Outing
DESCRIPTION:Proud Sponsors of \nSt. Joseph Hill Academy’s Annual Golf Outing \nTennis Open & Honoree Dinner Reception \n@ Richmond County Country Club 
URL:https://nctny.com/event/st-joseph-hill-academys-annual-golf-outing/
LOCATION:NJ
ATTACH;FMTTYPE=image/png:https://nctny.com/wp-content/uploads/2024/07/Golf-Outing-1.png
END:VEVENT
BEGIN:VEVENT
DTSTART;TZID=UTC:20240915T080000
DTEND;TZID=UTC:20240917T170000
DTSTAMP:20260422T103701
CREATED:20241030T171222Z
LAST-MODIFIED:20241030T171222Z
UID:2936-1726387200-1726592400@nctny.com
SUMMARY:N.J.A.H.R.A.
DESCRIPTION:New Jersey Association of Housing and Redevelopment Authorities \nN.J.A.H.R.A. 2024 Conference & Trade Show \nSeptember 15 – 17\, 2024 \nHard Rock Hotel & Casino \nAtlantic City\, NJ
URL:https://nctny.com/event/n-j-a-h-r-a/
LOCATION:Hard Rock Hotel & Casino\, Atlantic City\, NJ
END:VEVENT
BEGIN:VEVENT
DTSTART;TZID=UTC:20230918T160000
DTEND;TZID=UTC:20230918T193000
DTSTAMP:20260422T103701
CREATED:20241030T171732Z
LAST-MODIFIED:20241030T172252Z
UID:2945-1695052800-1695065400@nctny.com
SUMMARY:Sisters-of-st-joseph-26th-annual-golf-classic
DESCRIPTION:Proud Sponsors of \n@ Brentwood\, NY 11717 \n CLICK HERE  
URL:https://nctny.com/event/sisters-of-st-joseph-26th-annual-golf-classic/
LOCATION:NJ
ATTACH;FMTTYPE=image/png:https://nctny.com/wp-content/uploads/2023/08/event6.png
END:VEVENT
END:VCALENDAR